BEGIN:VCALENDAR
VERSION:2.0
PRODID:-//Pennsylvania Wine Society - ECPv6.15.20//NONSGML v1.0//EN
CALSCALE:GREGORIAN
METHOD:PUBLISH
X-WR-CALNAME:Pennsylvania Wine Society
X-ORIGINAL-URL:https://pawinesociety.org
X-WR-CALDESC:Events for Pennsylvania Wine Society
REFRESH-INTERVAL;VALUE=DURATION:PT1H
X-Robots-Tag:noindex
X-PUBLISHED-TTL:PT1H
BEGIN:VTIMEZONE
TZID:America/New_York
BEGIN:DAYLIGHT
TZOFFSETFROM:-0500
TZOFFSETTO:-0400
TZNAME:EDT
DTSTART:20200308T070000
END:DAYLIGHT
BEGIN:STANDARD
TZOFFSETFROM:-0400
TZOFFSETTO:-0500
TZNAME:EST
DTSTART:20201101T060000
END:STANDARD
BEGIN:DAYLIGHT
TZOFFSETFROM:-0500
TZOFFSETTO:-0400
TZNAME:EDT
DTSTART:20210314T070000
END:DAYLIGHT
BEGIN:STANDARD
TZOFFSETFROM:-0400
TZOFFSETTO:-0500
TZNAME:EST
DTSTART:20211107T060000
END:STANDARD
BEGIN:DAYLIGHT
TZOFFSETFROM:-0500
TZOFFSETTO:-0400
TZNAME:EDT
DTSTART:20220313T070000
END:DAYLIGHT
BEGIN:STANDARD
TZOFFSETFROM:-0400
TZOFFSETTO:-0500
TZNAME:EST
DTSTART:20221106T060000
END:STANDARD
END:VTIMEZONE
BEGIN:VTIMEZONE
TZID:UTC
BEGIN:STANDARD
TZOFFSETFROM:+0000
TZOFFSETTO:+0000
TZNAME:UTC
DTSTART:20200101T000000
END:STANDARD
END:VTIMEZONE
BEGIN:VEVENT
DTSTART;TZID=America/New_York:20210707T190000
DTEND;TZID=America/New_York:20210707T200000
DTSTAMP:20260423T203320
CREATED:20210303T044634Z
LAST-MODIFIED:20210705T164121Z
UID:1714-1625684400-1625688000@pawinesociety.org
SUMMARY:Wine Wednesday ~ Burgundy Whites and Reds
DESCRIPTION:Board meetings are virtual via Zoom.  Active\, dues paid current Members may attend as guests.  Please contact an Officer if you are interested in attending a meeting. \n 		\n			\n				This content applies only to current PWS members.
URL:https://pawinesociety.org/event-calendar/wine-wednesdays-weekly-free-virtual-gatherings-2021-07-07/
LOCATION:Wherever YOU Connect with Zoom
CATEGORIES:Informal,Social,Virtual via Zoom
ATTACH;FMTTYPE=image/jpeg:https://pawinesociety.org/wp-content/uploads/2021/03/Wine-Wed.jpg
ORGANIZER;CN="Contact PWS":MAILTO:treasurer@pawinesociety.org
END:VEVENT
BEGIN:VEVENT
DTSTART;TZID=America/New_York:20210630T190000
DTEND;TZID=America/New_York:20210630T200000
DTSTAMP:20260423T203320
CREATED:20210303T044634Z
LAST-MODIFIED:20210328T013534Z
UID:1713-1625079600-1625083200@pawinesociety.org
SUMMARY:Wine Wednesday ~ "Summertime Sippers"
DESCRIPTION:Board meetings are virtual via Zoom.  Active\, dues paid current Members may attend as guests.  Please contact an Officer if you are interested in attending a meeting. \n 		\n			\n				This content applies only to current PWS members.
URL:https://pawinesociety.org/event-calendar/wine-wednesdays-weekly-free-virtual-gatherings-2021-06-30/
LOCATION:Wherever YOU Connect with Zoom
CATEGORIES:Informal,Social,Virtual via Zoom
ATTACH;FMTTYPE=image/jpeg:https://pawinesociety.org/wp-content/uploads/2021/03/Wine-Wed.jpg
ORGANIZER;CN="Contact PWS":MAILTO:treasurer@pawinesociety.org
END:VEVENT
BEGIN:VEVENT
DTSTART;TZID=UTC:20210627T153000
DTEND;TZID=UTC:20210627T170000
DTSTAMP:20260423T203320
CREATED:20210328T015844Z
LAST-MODIFIED:20210616T071213Z
UID:1959-1624807800-1624813200@pawinesociety.org
SUMMARY:Cava - A Look at the New Laws
DESCRIPTION:Board meetings are virtual via Zoom.  Active\, dues paid current Members may attend as guests.  Please contact an Officer if you are interested in attending a meeting. \n 		\n			\n				This content applies only to current PWS members.
URL:https://pawinesociety.org/event-calendar/cava/
LOCATION:Wherever YOU Connect with Zoom
CATEGORIES:Educational,Virtual via Zoom
ATTACH;FMTTYPE=image/jpeg:https://pawinesociety.org/wp-content/uploads/2021/03/Spanish-Vineyards.jpg
ORGANIZER;CN="Contact PWS":MAILTO:asst-treasurer@pawinesociety.org
END:VEVENT
BEGIN:VEVENT
DTSTART;TZID=America/New_York:20210623T190000
DTEND;TZID=America/New_York:20210623T200000
DTSTAMP:20260423T203320
CREATED:20210303T044634Z
LAST-MODIFIED:20210328T013334Z
UID:1712-1624474800-1624478400@pawinesociety.org
SUMMARY:Wine Wednesday ~ Eastern American Wines (Maine to the Rockies and Michigan to Texas)
DESCRIPTION:Board meetings are virtual via Zoom.  Active\, dues paid current Members may attend as guests.  Please contact an Officer if you are interested in attending a meeting. \n 		\n			\n				This content applies only to current PWS members.
URL:https://pawinesociety.org/event-calendar/wine-wednesdays-weekly-free-virtual-gatherings-2021-06-23/
LOCATION:Wherever YOU Connect with Zoom
CATEGORIES:Informal,Social,Virtual via Zoom
ATTACH;FMTTYPE=image/jpeg:https://pawinesociety.org/wp-content/uploads/2021/03/Wine-Wed.jpg
ORGANIZER;CN="Contact PWS":MAILTO:treasurer@pawinesociety.org
END:VEVENT
BEGIN:VEVENT
DTSTART;TZID=America/New_York:20210616T190000
DTEND;TZID=America/New_York:20210616T200000
DTSTAMP:20260423T203320
CREATED:20210303T044634Z
LAST-MODIFIED:20210613T203015Z
UID:1711-1623870000-1623873600@pawinesociety.org
SUMMARY:Wine Wednesday ~ Wines from Regions/Wineries You Visited
DESCRIPTION:Board meetings are virtual via Zoom.  Active\, dues paid current Members may attend as guests.  Please contact an Officer if you are interested in attending a meeting. \n 		\n			\n				This content applies only to current PWS members.
URL:https://pawinesociety.org/event-calendar/wine-wednesdays-weekly-free-virtual-gatherings-2021-06-16/
LOCATION:Wherever YOU Connect with Zoom
CATEGORIES:Informal,Social,Virtual via Zoom
ATTACH;FMTTYPE=image/jpeg:https://pawinesociety.org/wp-content/uploads/2021/03/Wine-Wed.jpg
ORGANIZER;CN="Contact PWS":MAILTO:treasurer@pawinesociety.org
END:VEVENT
BEGIN:VEVENT
DTSTART;TZID=America/New_York:20210613T153000
DTEND;TZID=America/New_York:20210613T173000
DTSTAMP:20260423T203320
CREATED:20210328T015139Z
LAST-MODIFIED:20210607T023813Z
UID:1955-1623598200-1623605400@pawinesociety.org
SUMMARY:Washington State Wines:  A Geology Overview and AVA Update
DESCRIPTION:Board meetings are virtual via Zoom.  Active\, dues paid current Members may attend as guests.  Please contact an Officer if you are interested in attending a meeting. \n 		\n			\n				This content applies only to current PWS members.
URL:https://pawinesociety.org/event-calendar/washington-state-wines-a-geology-overview-and-ava-update/
LOCATION:Wherever YOU Connect with Zoom
CATEGORIES:Educational,Virtual via Zoom
ATTACH;FMTTYPE=image/jpeg:https://pawinesociety.org/wp-content/uploads/2021/03/Vantage-Columnar-Basalt_20140611_1.jpg
ORGANIZER;CN="Contact PWS":MAILTO:asst-treasurer@pawinesociety.org
END:VEVENT
BEGIN:VEVENT
DTSTART;TZID=America/New_York:20210609T190000
DTEND;TZID=America/New_York:20210609T200000
DTSTAMP:20260423T203321
CREATED:20210303T044634Z
LAST-MODIFIED:20210607T035113Z
UID:1710-1623265200-1623268800@pawinesociety.org
SUMMARY:Wine Wednesday ~ Iberian Peninsula
DESCRIPTION:Board meetings are virtual via Zoom.  Active\, dues paid current Members may attend as guests.  Please contact an Officer if you are interested in attending a meeting. \n 		\n			\n				This content applies only to current PWS members.
URL:https://pawinesociety.org/event-calendar/wine-wednesdays-weekly-free-virtual-gatherings-2021-06-09/
LOCATION:Wherever YOU Connect with Zoom
CATEGORIES:Informal,Virtual via Zoom
ATTACH;FMTTYPE=image/jpeg:https://pawinesociety.org/wp-content/uploads/2021/03/Wine-Wed.jpg
ORGANIZER;CN="Contact PWS":MAILTO:treasurer@pawinesociety.org
END:VEVENT
BEGIN:VEVENT
DTSTART;TZID=America/New_York:20210602T190000
DTEND;TZID=America/New_York:20210602T200000
DTSTAMP:20260423T203321
CREATED:20210303T044634Z
LAST-MODIFIED:20210601T022854Z
UID:1709-1622660400-1622664000@pawinesociety.org
SUMMARY:Wine Wednesday ~ Rhône Whites & Reds
DESCRIPTION:Board meetings are virtual via Zoom.  Active\, dues paid current Members may attend as guests.  Please contact an Officer if you are interested in attending a meeting. \n 		\n			\n				This content applies only to current PWS members.
URL:https://pawinesociety.org/event-calendar/wine-wednesdays-weekly-free-virtual-gatherings-2021-06-02/
LOCATION:Wherever YOU Connect with Zoom
CATEGORIES:Informal,Social,Virtual via Zoom
ATTACH;FMTTYPE=image/jpeg:https://pawinesociety.org/wp-content/uploads/2021/03/Wine-Wed.jpg
ORGANIZER;CN="Contact PWS":MAILTO:treasurer@pawinesociety.org
END:VEVENT
BEGIN:VEVENT
DTSTART;TZID=America/New_York:20210526T190000
DTEND;TZID=America/New_York:20210526T200000
DTSTAMP:20260423T203321
CREATED:20210303T044634Z
LAST-MODIFIED:20210525T204710Z
UID:1708-1622055600-1622059200@pawinesociety.org
SUMMARY:Wine Wednesday ~ Pinot Noir
DESCRIPTION:Board meetings are virtual via Zoom.  Active\, dues paid current Members may attend as guests.  Please contact an Officer if you are interested in attending a meeting. \n 		\n			\n				This content applies only to current PWS members.
URL:https://pawinesociety.org/event-calendar/wine-wednesdays-weekly-free-virtual-gatherings-2021-05-26/
LOCATION:Wherever YOU Connect with Zoom
CATEGORIES:Informal,Social,Virtual via Zoom
ATTACH;FMTTYPE=image/jpeg:https://pawinesociety.org/wp-content/uploads/2021/03/Wine-Wed.jpg
ORGANIZER;CN="Contact PWS":MAILTO:treasurer@pawinesociety.org
END:VEVENT
BEGIN:VEVENT
DTSTART;TZID=America/New_York:20210519T190000
DTEND;TZID=America/New_York:20210519T200000
DTSTAMP:20260423T203321
CREATED:20210303T044634Z
LAST-MODIFIED:20210514T124255Z
UID:1707-1621450800-1621454400@pawinesociety.org
SUMMARY:FREE Virtual Event ~ Wine Wednesday ~ South African Wines
DESCRIPTION:Board meetings are virtual via Zoom.  Active\, dues paid current Members may attend as guests.  Please contact an Officer if you are interested in attending a meeting. \n 		\n			\n				This content applies only to current PWS members.
URL:https://pawinesociety.org/event-calendar/wine-wednesdays-weekly-free-virtual-gatherings-2021-05-19/
LOCATION:Wherever YOU Connect with Zoom
CATEGORIES:Informal,Social,Virtual via Zoom
ATTACH;FMTTYPE=image/jpeg:https://pawinesociety.org/wp-content/uploads/2021/03/Wine-Wed.jpg
ORGANIZER;CN="Contact PWS":MAILTO:treasurer@pawinesociety.org
END:VEVENT
BEGIN:VEVENT
DTSTART;TZID=America/New_York:20210516T153000
DTEND;TZID=America/New_York:20210516T170000
DTSTAMP:20260423T203321
CREATED:20210303T041442Z
LAST-MODIFIED:20210504T230143Z
UID:1687-1621179000-1621184400@pawinesociety.org
SUMMARY:French Wines Part II ~ The Loire Valley and Bordeaux
DESCRIPTION:Board meetings are virtual via Zoom.  Active\, dues paid current Members may attend as guests.  Please contact an Officer if you are interested in attending a meeting. \n 		\n			\n				This content applies only to current PWS members.
URL:https://pawinesociety.org/event-calendar/french-wines-ii-a-free-virtual-event/
LOCATION:Wherever YOU Connect with Zoom
CATEGORIES:Educational,Virtual via Zoom
ATTACH;FMTTYPE=image/jpeg:https://pawinesociety.org/wp-content/uploads/2021/03/bigstock-Elegant-Brunette-And-Blonde-Wo-299127289-scaled.jpg
ORGANIZER;CN="Contact PWS":MAILTO:treasurer@pawinesociety.org
END:VEVENT
BEGIN:VEVENT
DTSTART;TZID=America/New_York:20210512T190000
DTEND;TZID=America/New_York:20210512T200000
DTSTAMP:20260423T203321
CREATED:20210303T044634Z
LAST-MODIFIED:20210508T025644Z
UID:1706-1620846000-1620849600@pawinesociety.org
SUMMARY:Wine Wednesday ~ Australia & New Zealand Wines
DESCRIPTION:Board meetings are virtual via Zoom.  Active\, dues paid current Members may attend as guests.  Please contact an Officer if you are interested in attending a meeting. \n 		\n			\n				This content applies only to current PWS members.
URL:https://pawinesociety.org/event-calendar/wine-wednesdays-weekly-free-virtual-gatherings-2021-05-12/
LOCATION:Wherever YOU Connect with Zoom
CATEGORIES:Informal,Social,Virtual via Zoom
ATTACH;FMTTYPE=image/jpeg:https://pawinesociety.org/wp-content/uploads/2021/03/Wine-Wed.jpg
ORGANIZER;CN="Contact PWS":MAILTO:treasurer@pawinesociety.org
END:VEVENT
BEGIN:VEVENT
DTSTART;TZID=America/New_York:20210505T190000
DTEND;TZID=America/New_York:20210505T200000
DTSTAMP:20260423T203321
CREATED:20210303T044634Z
LAST-MODIFIED:20210514T124823Z
UID:1705-1620241200-1620244800@pawinesociety.org
SUMMARY:Wine Wednesday ~ Wines for Cinco de Mayo
DESCRIPTION:Board meetings are virtual via Zoom.  Active\, dues paid current Members may attend as guests.  Please contact an Officer if you are interested in attending a meeting. \n 		\n			\n				This content applies only to current PWS members.
URL:https://pawinesociety.org/event-calendar/wine-wednesdays-weekly-free-virtual-gatherings-2021-05-05/
LOCATION:Wherever YOU Connect with Zoom
CATEGORIES:Informal,Social,Virtual via Zoom
ATTACH;FMTTYPE=image/jpeg:https://pawinesociety.org/wp-content/uploads/2021/03/Wine-Wed.jpg
ORGANIZER;CN="Contact PWS":MAILTO:treasurer@pawinesociety.org
END:VEVENT
BEGIN:VEVENT
DTSTART;TZID=America/New_York:20210502T153000
DTEND;TZID=America/New_York:20210502T170000
DTSTAMP:20260423T203321
CREATED:20210303T023648Z
LAST-MODIFIED:20210424T201607Z
UID:1683-1619969400-1619974800@pawinesociety.org
SUMMARY:French Wines Part I ~ Burgundy\, The Rhône Valley\, and Provence
DESCRIPTION:Board meetings are virtual via Zoom.  Active\, dues paid current Members may attend as guests.  Please contact an Officer if you are interested in attending a meeting. \n 		\n			\n				This content applies only to current PWS members.
URL:https://pawinesociety.org/event-calendar/french-wines-i-a-free-virtual-event/
LOCATION:Wherever YOU Connect with Zoom
CATEGORIES:Educational,Virtual via Zoom
ATTACH;FMTTYPE=image/jpeg:https://pawinesociety.org/wp-content/uploads/2021/03/France-Wine-Regions.jpg
ORGANIZER;CN="Contact PWS":MAILTO:treasurer@pawinesociety.org
END:VEVENT
BEGIN:VEVENT
DTSTART;TZID=America/New_York:20210428T190000
DTEND;TZID=America/New_York:20210428T200000
DTSTAMP:20260423T203321
CREATED:20210303T044634Z
LAST-MODIFIED:20210424T202642Z
UID:1704-1619636400-1619640000@pawinesociety.org
SUMMARY:Wine Wednesday ~ Wines of South America
DESCRIPTION:Board meetings are virtual via Zoom.  Active\, dues paid current Members may attend as guests.  Please contact an Officer if you are interested in attending a meeting. \n 		\n			\n				This content applies only to current PWS members.
URL:https://pawinesociety.org/event-calendar/wine-wednesdays-weekly-free-virtual-gatherings-2021-04-28/
LOCATION:Wherever YOU Connect with Zoom
CATEGORIES:Informal,Social,Virtual via Zoom
ATTACH;FMTTYPE=image/jpeg:https://pawinesociety.org/wp-content/uploads/2021/03/Wine-Wed.jpg
ORGANIZER;CN="Contact PWS":MAILTO:treasurer@pawinesociety.org
END:VEVENT
BEGIN:VEVENT
DTSTART;TZID=America/New_York:20210421T190000
DTEND;TZID=America/New_York:20210421T200000
DTSTAMP:20260423T203321
CREATED:20210303T044634Z
LAST-MODIFIED:20210422T211059Z
UID:1703-1619031600-1619035200@pawinesociety.org
SUMMARY:Wine Wednesday ~ European Wines Outside France and Italy
DESCRIPTION:Board meetings are virtual via Zoom.  Active\, dues paid current Members may attend as guests.  Please contact an Officer if you are interested in attending a meeting. \n 		\n			\n				This content applies only to current PWS members.
URL:https://pawinesociety.org/event-calendar/wine-wednesdays-weekly-free-virtual-gatherings-2021-04-21/
LOCATION:Wherever YOU Connect with Zoom
CATEGORIES:Informal,Social,Virtual via Zoom
ATTACH;FMTTYPE=image/jpeg:https://pawinesociety.org/wp-content/uploads/2021/03/Wine-Wed.jpg
ORGANIZER;CN="Contact PWS":MAILTO:treasurer@pawinesociety.org
END:VEVENT
BEGIN:VEVENT
DTSTART;TZID=America/New_York:20210418T153000
DTEND;TZID=America/New_York:20210418T170000
DTSTAMP:20260423T203321
CREATED:20210303T023104Z
LAST-MODIFIED:20210410T202136Z
UID:1680-1618759800-1618765200@pawinesociety.org
SUMMARY:Rosé All Day! with Kevin Ostrowski
DESCRIPTION:Board meetings are virtual via Zoom.  Active\, dues paid current Members may attend as guests.  Please contact an Officer if you are interested in attending a meeting. \n 		\n			\n				This content applies only to current PWS members.
URL:https://pawinesociety.org/event-calendar/rose-all-day-a-free-virtual-event/
LOCATION:Wherever YOU Connect with Zoom
CATEGORIES:Educational,Virtual via Zoom
ATTACH;FMTTYPE=image/jpeg:https://pawinesociety.org/wp-content/uploads/2021/03/Rose-in-Different-Glasses.jpg
ORGANIZER;CN="Contact PWS":MAILTO:treasurer@pawinesociety.org
END:VEVENT
BEGIN:VEVENT
DTSTART;TZID=America/New_York:20210414T190000
DTEND;TZID=America/New_York:20210414T200000
DTSTAMP:20260423T203321
CREATED:20210303T044634Z
LAST-MODIFIED:20210410T192021Z
UID:1702-1618426800-1618430400@pawinesociety.org
SUMMARY:Wine Wednesday ~ Wines made from Hybrid Grapes
DESCRIPTION:Board meetings are virtual via Zoom.  Active\, dues paid current Members may attend as guests.  Please contact an Officer if you are interested in attending a meeting. \n 		\n			\n				This content applies only to current PWS members.
URL:https://pawinesociety.org/event-calendar/wine-wednesdays-weekly-free-virtual-gatherings-2021-04-14/
LOCATION:Wherever YOU Connect with Zoom
CATEGORIES:Informal,Social,Virtual via Zoom
ATTACH;FMTTYPE=image/jpeg:https://pawinesociety.org/wp-content/uploads/2021/03/Wine-Wed.jpg
ORGANIZER;CN="Contact PWS":MAILTO:treasurer@pawinesociety.org
END:VEVENT
BEGIN:VEVENT
DTSTART;TZID=America/New_York:20210407T190000
DTEND;TZID=America/New_York:20210407T200000
DTSTAMP:20260423T203321
CREATED:20210303T044634Z
LAST-MODIFIED:20210410T201828Z
UID:1701-1617822000-1617825600@pawinesociety.org
SUMMARY:Wine Wednesday ~ The Joys of Cheap Wine
DESCRIPTION:Board meetings are virtual via Zoom.  Active\, dues paid current Members may attend as guests.  Please contact an Officer if you are interested in attending a meeting. \n 		\n			\n				This content applies only to current PWS members.
URL:https://pawinesociety.org/event-calendar/wine-wednesdays-weekly-free-virtual-gatherings-2021-04-07/
LOCATION:Wherever YOU Connect with Zoom
CATEGORIES:Informal,Social,Virtual via Zoom
ATTACH;FMTTYPE=image/jpeg:https://pawinesociety.org/wp-content/uploads/2021/03/Wine-Wed.jpg
ORGANIZER;CN="Contact PWS":MAILTO:treasurer@pawinesociety.org
END:VEVENT
BEGIN:VEVENT
DTSTART;TZID=America/New_York:20210331T190000
DTEND;TZID=America/New_York:20210331T200000
DTSTAMP:20260423T203321
CREATED:20210303T044634Z
LAST-MODIFIED:20210410T201640Z
UID:1700-1617217200-1617220800@pawinesociety.org
SUMMARY:Wine Wednesday ~ Wines For the Passover and Easter Seasons
DESCRIPTION:Board meetings are virtual via Zoom.  Active\, dues paid current Members may attend as guests.  Please contact an Officer if you are interested in attending a meeting. \n 		\n			\n				This content applies only to current PWS members.
URL:https://pawinesociety.org/event-calendar/wine-wednesdays-weekly-free-virtual-gatherings-2021-03-31/
LOCATION:Wherever YOU Connect with Zoom
CATEGORIES:Informal,Social,Virtual via Zoom
ATTACH;FMTTYPE=image/jpeg:https://pawinesociety.org/wp-content/uploads/2021/03/Wine-Wed.jpg
ORGANIZER;CN="Contact PWS":MAILTO:treasurer@pawinesociety.org
END:VEVENT
BEGIN:VEVENT
DTSTART;TZID=America/New_York:20210324T190000
DTEND;TZID=America/New_York:20210324T200000
DTSTAMP:20260423T203321
CREATED:20210303T044634Z
LAST-MODIFIED:20210410T201432Z
UID:1699-1616612400-1616616000@pawinesociety.org
SUMMARY:Wine Wednesdays ~ Red Blends
DESCRIPTION:Board meetings are virtual via Zoom.  Active\, dues paid current Members may attend as guests.  Please contact an Officer if you are interested in attending a meeting. \n 		\n			\n				This content applies only to current PWS members.
URL:https://pawinesociety.org/event-calendar/wine-wednesdays-weekly-free-virtual-gatherings-2021-03-24/
LOCATION:Wherever YOU Connect with Zoom
CATEGORIES:Informal,Social,Virtual via Zoom
ATTACH;FMTTYPE=image/jpeg:https://pawinesociety.org/wp-content/uploads/2021/03/Wine-Wed.jpg
ORGANIZER;CN="Contact PWS":MAILTO:treasurer@pawinesociety.org
END:VEVENT
BEGIN:VEVENT
DTSTART;TZID=America/New_York:20210321T153000
DTEND;TZID=America/New_York:20210321T170000
DTSTAMP:20260423T203321
CREATED:20210127T021105Z
LAST-MODIFIED:20210422T191556Z
UID:782-1616340600-1616346000@pawinesociety.org
SUMMARY:Presque Isle Wine Cellars: Where Pennsylvania Wine Began
DESCRIPTION:Board meetings are virtual via Zoom.  Active\, dues paid current Members may attend as guests.  Please contact an Officer if you are interested in attending a meeting. \n 		\n			\n				This content applies only to current PWS members.
URL:https://pawinesociety.org/event-calendar/presque-isle-wine-cellars-virtual-event/
LOCATION:Wherever YOU Connect with Zoom
CATEGORIES:Educational,Virtual via Zoom
ATTACH;FMTTYPE=image/jpeg:https://pawinesociety.org/wp-content/uploads/2021/01/Presque-Isle.jpg
ORGANIZER;CN="Contact PWS":MAILTO:treasurer@pawinesociety.org
END:VEVENT
BEGIN:VEVENT
DTSTART;TZID=America/New_York:20210317T190000
DTEND;TZID=America/New_York:20210317T200000
DTSTAMP:20260423T203321
CREATED:20210303T044634Z
LAST-MODIFIED:20210410T201154Z
UID:1698-1616007600-1616011200@pawinesociety.org
SUMMARY:Wine Wednesday ~ Focus on White Blends
DESCRIPTION:Board meetings are virtual via Zoom.  Active\, dues paid current Members may attend as guests.  Please contact an Officer if you are interested in attending a meeting. \n 		\n			\n				This content applies only to current PWS members.
URL:https://pawinesociety.org/event-calendar/wine-wednesdays-weekly-free-virtual-gatherings-2021-03-17/
LOCATION:Wherever YOU Connect with Zoom
CATEGORIES:Informal,Social,Virtual via Zoom
ATTACH;FMTTYPE=image/jpeg:https://pawinesociety.org/wp-content/uploads/2021/03/Wine-Wed.jpg
ORGANIZER;CN="Contact PWS":MAILTO:treasurer@pawinesociety.org
END:VEVENT
BEGIN:VEVENT
DTSTART;TZID=America/New_York:20210310T190000
DTEND;TZID=America/New_York:20210310T200000
DTSTAMP:20260423T203321
CREATED:20210303T044634Z
LAST-MODIFIED:20210410T200908Z
UID:1697-1615402800-1615406400@pawinesociety.org
SUMMARY:Wine Wednesday ~ Wines of the Southern Hemisphere
DESCRIPTION:Board meetings are virtual via Zoom.  Active\, dues paid current Members may attend as guests.  Please contact an Officer if you are interested in attending a meeting. \n 		\n			\n				This content applies only to current PWS members.
URL:https://pawinesociety.org/event-calendar/wine-wednesdays-weekly-free-virtual-gatherings-2021-03-10/
LOCATION:Wherever YOU Connect with Zoom
CATEGORIES:Informal,Social,Virtual via Zoom
ATTACH;FMTTYPE=image/jpeg:https://pawinesociety.org/wp-content/uploads/2021/03/Wine-Wed.jpg
ORGANIZER;CN="Contact PWS":MAILTO:treasurer@pawinesociety.org
END:VEVENT
BEGIN:VEVENT
DTSTART;TZID=UTC:20210307T153000
DTEND;TZID=UTC:20210307T170000
DTSTAMP:20260423T203321
CREATED:20210402T080015Z
LAST-MODIFIED:20210402T080407Z
UID:2046-1615131000-1615136400@pawinesociety.org
SUMMARY:California Dreamin' ...about wine!
DESCRIPTION:Board meetings are virtual via Zoom.  Active\, dues paid current Members may attend as guests.  Please contact an Officer if you are interested in attending a meeting. \n 		\n			\n				This content applies only to current PWS members.
URL:https://pawinesociety.org/event-calendar/california-dreamin/
LOCATION:Wherever YOU Connect with Zoom
CATEGORIES:Educational,Virtual via Zoom
END:VEVENT
BEGIN:VEVENT
DTSTART;TZID=America/New_York:20210303T190000
DTEND;TZID=America/New_York:20210303T200000
DTSTAMP:20260423T203321
CREATED:20210303T044634Z
LAST-MODIFIED:20210422T192125Z
UID:1694-1614798000-1614801600@pawinesociety.org
SUMMARY:Wine Wednesday ~ The CONTINUED Quest for Lesser Known Grapes
DESCRIPTION:Board meetings are virtual via Zoom.  Active\, dues paid current Members may attend as guests.  Please contact an Officer if you are interested in attending a meeting. \n 		\n			\n				This content applies only to current PWS members.
URL:https://pawinesociety.org/event-calendar/wine-wednesdays-weekly-free-virtual-gatherings/
LOCATION:Wherever YOU Connect with Zoom
CATEGORIES:Informal,Social,Virtual via Zoom
ATTACH;FMTTYPE=image/jpeg:https://pawinesociety.org/wp-content/uploads/2021/03/Wine-Wed.jpg
ORGANIZER;CN="Contact PWS":MAILTO:treasurer@pawinesociety.org
END:VEVENT
BEGIN:VEVENT
DTSTART;TZID=UTC:20210221T153000
DTEND;TZID=UTC:20210221T170000
DTSTAMP:20260423T203321
CREATED:20210127T010029Z
LAST-MODIFIED:20210422T210319Z
UID:778-1613921400-1613926800@pawinesociety.org
SUMMARY:Mazza Wines - Virtual Event
DESCRIPTION:Board meetings are virtual via Zoom.  Active\, dues paid current Members may attend as guests.  Please contact an Officer if you are interested in attending a meeting. \n 		\n			\n				This content applies only to current PWS members.
URL:https://pawinesociety.org/event-calendar/mazza-vineyards-virtual-event/
LOCATION:Wherever YOU Connect with Zoom
CATEGORIES:Educational,Virtual via Zoom
ATTACH;FMTTYPE=image/jpeg:https://pawinesociety.org/wp-content/uploads/2021/01/Mazza-Vineyards-Property.jpg
ORGANIZER;CN="Contact PWS":MAILTO:treasurer@pawinesociety.org
END:VEVENT
BEGIN:VEVENT
DTSTART;TZID=UTC:20210218T190000
DTEND;TZID=UTC:20210218T200000
DTSTAMP:20260423T203321
CREATED:20210410T203952Z
LAST-MODIFIED:20210422T205424Z
UID:2200-1613674800-1613678400@pawinesociety.org
SUMMARY:Virtual Informal Gathering for National Drink Wine Day
DESCRIPTION:Board meetings are virtual via Zoom.  Active\, dues paid current Members may attend as guests.  Please contact an Officer if you are interested in attending a meeting. \n 		\n			\n				This content applies only to current PWS members.
URL:https://pawinesociety.org/event-calendar/virtual-informal-gathering-for-national-drink-wine-day/
CATEGORIES:Informal,Social,Virtual via Zoom
ATTACH;FMTTYPE=image/jpeg:https://pawinesociety.org/wp-content/uploads/2020/11/bigstock-Wine-Tasting-Concept-Still-An-390327131-scaled.jpg
ORGANIZER;CN="Contact PWS":MAILTO:treasurer@pawinesociety.org
END:VEVENT
BEGIN:VEVENT
DTSTART;TZID=UTC:20210207T153000
DTEND;TZID=UTC:20210207T170000
DTSTAMP:20260423T203321
CREATED:20210127T003950Z
LAST-MODIFIED:20210422T210218Z
UID:775-1612711800-1612717200@pawinesociety.org
SUMMARY:Super Wine Sunday: The Wines of Rioja ~ Virtual Event
DESCRIPTION:Board meetings are virtual via Zoom.  Active\, dues paid current Members may attend as guests.  Please contact an Officer if you are interested in attending a meeting. \n 		\n			\n				This content applies only to current PWS members.
URL:https://pawinesociety.org/event-calendar/rioja-wines/
LOCATION:Wherever YOU Connect with Zoom
CATEGORIES:Educational,Virtual via Zoom
ATTACH;FMTTYPE=image/jpeg:https://pawinesociety.org/wp-content/uploads/2021/01/Rioja-poster-scaled.jpg
ORGANIZER;CN="Contact PWS":MAILTO:treasurer@pawinesociety.org
END:VEVENT
BEGIN:VEVENT
DTSTART;TZID=America/New_York:20210124T153000
DTEND;TZID=America/New_York:20210124T163000
DTSTAMP:20260423T203321
CREATED:20210123T030759Z
LAST-MODIFIED:20221215T094526Z
UID:760-1611502200-1611505800@pawinesociety.org
SUMMARY:Red Wines of Piemonte - Virtual Event
DESCRIPTION:Board meetings are virtual via Zoom.  Active\, dues paid current Members may attend as guests.  Please contact an Officer if you are interested in attending a meeting. \n 		\n			\n				This content applies only to current PWS members.
URL:https://pawinesociety.org/event-calendar/red-wines-of-piemonte/
LOCATION:Wherever YOU Connect with Zoom
CATEGORIES:Educational,Virtual via Zoom
ATTACH;FMTTYPE=image/jpeg:https://pawinesociety.org/wp-content/uploads/2021/01/wine-and-cheese-scaled.jpeg
ORGANIZER;CN="Contact PWS":MAILTO:asst-treasurer@pawinesociety.org
END:VEVENT
END:VCALENDAR