BEGIN:VCALENDAR
VERSION:2.0
PRODID:-//Pennsylvania Wine Society - ECPv6.15.20//NONSGML v1.0//EN
CALSCALE:GREGORIAN
METHOD:PUBLISH
X-WR-CALNAME:Pennsylvania Wine Society
X-ORIGINAL-URL:https://pawinesociety.org
X-WR-CALDESC:Events for Pennsylvania Wine Society
REFRESH-INTERVAL;VALUE=DURATION:PT1H
X-Robots-Tag:noindex
X-PUBLISHED-TTL:PT1H
BEGIN:VTIMEZONE
TZID:America/New_York
BEGIN:DAYLIGHT
TZOFFSETFROM:-0500
TZOFFSETTO:-0400
TZNAME:EDT
DTSTART:20250309T070000
END:DAYLIGHT
BEGIN:STANDARD
TZOFFSETFROM:-0400
TZOFFSETTO:-0500
TZNAME:EST
DTSTART:20251102T060000
END:STANDARD
BEGIN:DAYLIGHT
TZOFFSETFROM:-0500
TZOFFSETTO:-0400
TZNAME:EDT
DTSTART:20260308T070000
END:DAYLIGHT
BEGIN:STANDARD
TZOFFSETFROM:-0400
TZOFFSETTO:-0500
TZNAME:EST
DTSTART:20261101T060000
END:STANDARD
BEGIN:DAYLIGHT
TZOFFSETFROM:-0500
TZOFFSETTO:-0400
TZNAME:EDT
DTSTART:20270314T070000
END:DAYLIGHT
BEGIN:STANDARD
TZOFFSETFROM:-0400
TZOFFSETTO:-0500
TZNAME:EST
DTSTART:20271107T060000
END:STANDARD
END:VTIMEZONE
BEGIN:VEVENT
DTSTART;TZID=America/New_York:20260421T000000
DTEND;TZID=America/New_York:20260421T170000
DTSTAMP:20260421T020033
CREATED:20260201T000653Z
LAST-MODIFIED:20260228T203917Z
UID:9507-1776729600-1776790800@pawinesociety.org
SUMMARY:Deadline to Register for Honig Wines
DESCRIPTION:Events fill up and may sell out fast – we recommend reserving seats at your comfortable earliest opportunity.   To reserve seats\, go to the Shoppe Page of this website.
URL:https://pawinesociety.org/event-calendar/deadline-to-register-for-honig-wines/
LOCATION:Hilton Harrisburg\, 1 North Second Street\, Harrisburg\, PA\, 17101\, United States
CATEGORIES:Nonevent Information Only
ATTACH;FMTTYPE=image/png:https://pawinesociety.org/wp-content/uploads/2022/11/shutterstock_1572334528-Deadline-Converted.png
ORGANIZER;CN="Contact PWS":MAILTO:treasurer@pawinesociety.org
END:VEVENT
END:VCALENDAR